BEGIN:VCALENDAR
VERSION:2.0
PRODID:-//Sowing Seeds for Life - ECPv6.15.17.1//NONSGML v1.0//EN
CALSCALE:GREGORIAN
METHOD:PUBLISH
X-WR-CALNAME:Sowing Seeds for Life
X-ORIGINAL-URL:https://sowingseedsforlife.org
X-WR-CALDESC:Events for Sowing Seeds for Life
REFRESH-INTERVAL;VALUE=DURATION:PT1H
X-Robots-Tag:noindex
X-PUBLISHED-TTL:PT1H
BEGIN:VTIMEZONE
TZID:UTC
BEGIN:STANDARD
TZOFFSETFROM:+0000
TZOFFSETTO:+0000
TZNAME:UTC
DTSTART:20250101T000000
END:STANDARD
END:VTIMEZONE
BEGIN:VEVENT
DTSTART;TZID=UTC:20260902T100000
DTEND;TZID=UTC:20260902T120000
DTSTAMP:20260421T151644
CREATED:20260120T220310Z
LAST-MODIFIED:20260120T220310Z
UID:2047-1788343200-1788350400@sowingseedsforlife.org
SUMMARY:Charisma Life Church
DESCRIPTION:Charisma Life Church – 305 E Arrow Hwy\, Pomona\, CA 91767
URL:https://sowingseedsforlife.org/event/charisma-life-church-6/
END:VEVENT
BEGIN:VEVENT
DTSTART;TZID=UTC:20260916T100000
DTEND;TZID=UTC:20260916T120000
DTSTAMP:20260421T151644
CREATED:20260121T150615Z
LAST-MODIFIED:20260121T151253Z
UID:2051-1789552800-1789560000@sowingseedsforlife.org
SUMMARY:Charisma Life Church
DESCRIPTION:Charisma Life Church – 305 E Arrow Hwy\, Pomona\, CA 91767
URL:https://sowingseedsforlife.org/event/grand-terrace-pantry-12/
END:VEVENT
BEGIN:VEVENT
DTSTART;TZID=UTC:20260926T100000
DTEND;TZID=UTC:20260926T120000
DTSTAMP:20260421T151644
CREATED:20251204T154755Z
LAST-MODIFIED:20260120T220130Z
UID:1461-1790416800-1790424000@sowingseedsforlife.org
SUMMARY:Grand Terrace Pantry
DESCRIPTION:Grand Terrace Pantry Distribution \n22755 Vista Grande Way\, \nGrand Terrace\, CA 92313
URL:https://sowingseedsforlife.org/event/grand-terrace-pantry-8/
END:VEVENT
END:VCALENDAR