BEGIN:VCALENDAR
VERSION:2.0
PRODID:-//Sowing Seeds for Life - ECPv6.15.17.1//NONSGML v1.0//EN
CALSCALE:GREGORIAN
METHOD:PUBLISH
X-WR-CALNAME:Sowing Seeds for Life
X-ORIGINAL-URL:https://sowingseedsforlife.org
X-WR-CALDESC:Events for Sowing Seeds for Life
REFRESH-INTERVAL;VALUE=DURATION:PT1H
X-Robots-Tag:noindex
X-PUBLISHED-TTL:PT1H
BEGIN:VTIMEZONE
TZID:UTC
BEGIN:STANDARD
TZOFFSETFROM:+0000
TZOFFSETTO:+0000
TZNAME:UTC
DTSTART:20240101T000000
END:STANDARD
END:VTIMEZONE
BEGIN:VEVENT
DTSTART;TZID=UTC:20260715T100000
DTEND;TZID=UTC:20260715T120000
DTSTAMP:20260421T152349
CREATED:20260121T150911Z
LAST-MODIFIED:20260121T151333Z
UID:2056-1784109600-1784116800@sowingseedsforlife.org
SUMMARY:Charisma Life Church
DESCRIPTION:Charisma Life Church – 305 E Arrow Hwy\, Pomona\, CA 91767
URL:https://sowingseedsforlife.org/event/grand-terrace-pantry-14/
END:VEVENT
BEGIN:VEVENT
DTSTART;TZID=UTC:20260701T100000
DTEND;TZID=UTC:20260701T120000
DTSTAMP:20260421T152349
CREATED:20260121T150827Z
LAST-MODIFIED:20260121T151203Z
UID:2054-1782900000-1782907200@sowingseedsforlife.org
SUMMARY:Charisma Life Church
DESCRIPTION:Charisma Life Church – 305 E Arrow Hwy\, Pomona\, CA 91767
URL:https://sowingseedsforlife.org/event/grand-terrace-pantry-13/
END:VEVENT
BEGIN:VEVENT
DTSTART;TZID=UTC:20260627T110000
DTEND;TZID=UTC:20260627T120000
DTSTAMP:20260421T152349
CREATED:20251204T154303Z
LAST-MODIFIED:20260121T151536Z
UID:1455-1782558000-1782561600@sowingseedsforlife.org
SUMMARY:Grand Terrace Pantry
DESCRIPTION:Grand Terrace Pantry Distribution \n22755 Vista Grande Way\, \nGrand Terrace\, CA 92313
URL:https://sowingseedsforlife.org/event/grand-terrace-pantry-5/
END:VEVENT
BEGIN:VEVENT
DTSTART;TZID=UTC:20260617T100000
DTEND;TZID=UTC:20260617T120000
DTSTAMP:20260421T152349
CREATED:20260121T151510Z
LAST-MODIFIED:20260121T151510Z
UID:2064-1781690400-1781697600@sowingseedsforlife.org
SUMMARY:Charisma Life Church
DESCRIPTION:Charisma Life Church – 305 E Arrow Hwy\, Pomona\, CA 91767
URL:https://sowingseedsforlife.org/event/charisma-life-church-9/
END:VEVENT
BEGIN:VEVENT
DTSTART;TZID=UTC:20260603T100000
DTEND;TZID=UTC:20260603T120000
DTSTAMP:20260421T152349
CREATED:20260121T151442Z
LAST-MODIFIED:20260121T151442Z
UID:2062-1780480800-1780488000@sowingseedsforlife.org
SUMMARY:Charisma Life Church
DESCRIPTION:Charisma Life Church – 305 E Arrow Hwy\, Pomona\, CA 91767
URL:https://sowingseedsforlife.org/event/charisma-life-church-8/
END:VEVENT
BEGIN:VEVENT
DTSTART;TZID=UTC:20260520T100000
DTEND;TZID=UTC:20260520T120000
DTSTAMP:20260421T152349
CREATED:20260121T151758Z
LAST-MODIFIED:20260121T151758Z
UID:2072-1779271200-1779278400@sowingseedsforlife.org
SUMMARY:Charisma Life Church
DESCRIPTION:Charisma Life Church – 305 E Arrow Hwy\, Pomona\, CA 91767
URL:https://sowingseedsforlife.org/event/charisma-life-church-11/
END:VEVENT
BEGIN:VEVENT
DTSTART;TZID=UTC:20260506T100000
DTEND;TZID=UTC:20260506T120000
DTSTAMP:20260421T152349
CREATED:20260121T151724Z
LAST-MODIFIED:20260121T151724Z
UID:2070-1778061600-1778068800@sowingseedsforlife.org
SUMMARY:Charisma Life Church
DESCRIPTION:Charisma Life Church – 305 E Arrow Hwy\, Pomona\, CA 91767
URL:https://sowingseedsforlife.org/event/charisma-life-church-10/
END:VEVENT
BEGIN:VEVENT
DTSTART;TZID=UTC:20260425T110000
DTEND;TZID=UTC:20260425T120000
DTSTAMP:20260421T152349
CREATED:20251204T154108Z
LAST-MODIFIED:20260121T152014Z
UID:1453-1777114800-1777118400@sowingseedsforlife.org
SUMMARY:Grand Terrace Pantry
DESCRIPTION:Grand Terrace Pantry Distribution \n22755 Vista Grande Way\, \nGrand Terrace\, CA 92313
URL:https://sowingseedsforlife.org/event/grand-terrace-pantry-4/
END:VEVENT
BEGIN:VEVENT
DTSTART;TZID=UTC:20260415T100000
DTEND;TZID=UTC:20260415T120000
DTSTAMP:20260421T152349
CREATED:20260121T151941Z
LAST-MODIFIED:20260121T151941Z
UID:2079-1776247200-1776254400@sowingseedsforlife.org
SUMMARY:Charisma Life Church
DESCRIPTION:Charisma Life Church – 305 E Arrow Hwy\, Pomona\, CA 91767
URL:https://sowingseedsforlife.org/event/charisma-life-church-13/
END:VEVENT
BEGIN:VEVENT
DTSTART;TZID=UTC:20260401T100000
DTEND;TZID=UTC:20260401T120000
DTSTAMP:20260421T152349
CREATED:20260121T151918Z
LAST-MODIFIED:20260121T151918Z
UID:2077-1775037600-1775044800@sowingseedsforlife.org
SUMMARY:Charisma Life Church
DESCRIPTION:Charisma Life Church – 305 E Arrow Hwy\, Pomona\, CA 91767
URL:https://sowingseedsforlife.org/event/charisma-life-church-12/
END:VEVENT
BEGIN:VEVENT
DTSTART;TZID=UTC:20260328T110000
DTEND;TZID=UTC:20260328T120000
DTSTAMP:20260421T152349
CREATED:20251204T154007Z
LAST-MODIFIED:20260121T152158Z
UID:1451-1774695600-1774699200@sowingseedsforlife.org
SUMMARY:Grand Terrace Pantry
DESCRIPTION:Grand Terrace Pantry Distribution \n22755 Vista Grande Way\, \nGrand Terrace\, CA 92313
URL:https://sowingseedsforlife.org/event/grand-terrace-pantry-3/
END:VEVENT
BEGIN:VEVENT
DTSTART;TZID=UTC:20260318T100000
DTEND;TZID=UTC:20260318T120000
DTSTAMP:20260421T152349
CREATED:20260121T152130Z
LAST-MODIFIED:20260121T152130Z
UID:2084-1773828000-1773835200@sowingseedsforlife.org
SUMMARY:Charisma Life Church
DESCRIPTION:Charisma Life Church – 305 E Arrow Hwy\, Pomona\, CA 91767
URL:https://sowingseedsforlife.org/event/charisma-life-church-15/
END:VEVENT
BEGIN:VEVENT
DTSTART;TZID=UTC:20260304T100000
DTEND;TZID=UTC:20260304T120000
DTSTAMP:20260421T152349
CREATED:20260121T152107Z
LAST-MODIFIED:20260121T152107Z
UID:2082-1772618400-1772625600@sowingseedsforlife.org
SUMMARY:Charisma Life Church
DESCRIPTION:Charisma Life Church – 305 E Arrow Hwy\, Pomona\, CA 91767
URL:https://sowingseedsforlife.org/event/charisma-life-church-14/
END:VEVENT
BEGIN:VEVENT
DTSTART;TZID=UTC:20260228T110000
DTEND;TZID=UTC:20260228T120000
DTSTAMP:20260421T152349
CREATED:20251204T153856Z
LAST-MODIFIED:20260121T152435Z
UID:1449-1772276400-1772280000@sowingseedsforlife.org
SUMMARY:Grand Terrace Pantry
DESCRIPTION:Grand Terrace Pantry Distribution \n22755 Vista Grande Way\, \nGrand Terrace\, CA 92313
URL:https://sowingseedsforlife.org/event/grand-terrace-pantry-2/
END:VEVENT
BEGIN:VEVENT
DTSTART;TZID=UTC:20260218T100000
DTEND;TZID=UTC:20260218T120000
DTSTAMP:20260421T152349
CREATED:20260121T152327Z
LAST-MODIFIED:20260121T152327Z
UID:2089-1771408800-1771416000@sowingseedsforlife.org
SUMMARY:Charisma Life Church
DESCRIPTION:Charisma Life Church – 305 E Arrow Hwy\, Pomona\, CA 91767
URL:https://sowingseedsforlife.org/event/charisma-life-church-17/
END:VEVENT
BEGIN:VEVENT
DTSTART;TZID=UTC:20260204T100000
DTEND;TZID=UTC:20260204T120000
DTSTAMP:20260421T152349
CREATED:20260121T152304Z
LAST-MODIFIED:20260121T152304Z
UID:2087-1770199200-1770206400@sowingseedsforlife.org
SUMMARY:Charisma Life Church
DESCRIPTION:Charisma Life Church – 305 E Arrow Hwy\, Pomona\, CA 91767
URL:https://sowingseedsforlife.org/event/charisma-life-church-16/
END:VEVENT
BEGIN:VEVENT
DTSTART;TZID=UTC:20260131T110000
DTEND;TZID=UTC:20260131T120000
DTSTAMP:20260421T152349
CREATED:20251204T153547Z
LAST-MODIFIED:20260121T152810Z
UID:1447-1769857200-1769860800@sowingseedsforlife.org
SUMMARY:Grand Terrace Pantry
DESCRIPTION:Grand Terrace Pantry Distribution \n22755 Vista Grande Way\, \nGrand Terrace\, CA 92313 \n 
URL:https://sowingseedsforlife.org/event/grand-terrace-pantry/
END:VEVENT
BEGIN:VEVENT
DTSTART;TZID=UTC:20260121T100000
DTEND;TZID=UTC:20260121T120000
DTSTAMP:20260421T152349
CREATED:20260121T152707Z
LAST-MODIFIED:20260121T152707Z
UID:2102-1768989600-1768996800@sowingseedsforlife.org
SUMMARY:Charisma Life Church
DESCRIPTION:Charisma Life Church – 305 E Arrow Hwy\, Pomona\, CA 91767
URL:https://sowingseedsforlife.org/event/charisma-life-church-20/
END:VEVENT
BEGIN:VEVENT
DTSTART;TZID=UTC:20260121T080000
DTEND;TZID=UTC:20260121T170000
DTSTAMP:20260421T152349
CREATED:20260121T152620Z
LAST-MODIFIED:20260121T152620Z
UID:2092-1768982400-1769014800@sowingseedsforlife.org
SUMMARY:Charisma Life Church
DESCRIPTION:Charisma Life Church – 305 E Arrow Hwy\, Pomona\, CA 91767
URL:https://sowingseedsforlife.org/event/charisma-life-church-18/
END:VEVENT
BEGIN:VEVENT
DTSTART;TZID=UTC:20260120T100000
DTEND;TZID=UTC:20260120T120000
DTSTAMP:20260421T152349
CREATED:20260120T220412Z
LAST-MODIFIED:20260120T220412Z
UID:2049-1768903200-1768910400@sowingseedsforlife.org
SUMMARY:Charisma Life Church
DESCRIPTION:Charisma Life Church – 305 E Arrow Hwy\, Pomona\, CA 91767
URL:https://sowingseedsforlife.org/event/charisma-life-church-7/
END:VEVENT
BEGIN:VEVENT
DTSTART;TZID=UTC:20260107T100000
DTEND;TZID=UTC:20260107T120000
DTSTAMP:20260421T152349
CREATED:20260121T152647Z
LAST-MODIFIED:20260121T152647Z
UID:2100-1767780000-1767787200@sowingseedsforlife.org
SUMMARY:Charisma Life Church
DESCRIPTION:Charisma Life Church – 305 E Arrow Hwy\, Pomona\, CA 91767
URL:https://sowingseedsforlife.org/event/charisma-life-church-19/
END:VEVENT
BEGIN:VEVENT
DTSTART;TZID=UTC:20251015T100000
DTEND;TZID=UTC:20251015T120000
DTSTAMP:20260421T152349
CREATED:20250924T152622Z
LAST-MODIFIED:20250924T152622Z
UID:1378-1760522400-1760529600@sowingseedsforlife.org
SUMMARY:Drive Thru Food Pantry
DESCRIPTION:Drive Thru Food Pantry \n*While Supplies Last* \n\nCharisma Life Church 305 E Arrow Hwy\, Pomona\n\n\nThe Sowing Seeds Drive-Thru Pantry is held at Charisma Life Church located at 305 E Arrow Hwy\, Pomona\, CA 91767
URL:https://sowingseedsforlife.org/event/drive-thru-food-pantry-2/
END:VEVENT
BEGIN:VEVENT
DTSTART;TZID=UTC:20251001T100000
DTEND;TZID=UTC:20251001T120000
DTSTAMP:20260421T152349
CREATED:20250924T152528Z
LAST-MODIFIED:20250924T152528Z
UID:1376-1759312800-1759320000@sowingseedsforlife.org
SUMMARY:Drive Thru Food Pantry
DESCRIPTION:Drive Thru Food Pantry \n*While Supplies Last* \n\nCharisma Life Church 305 E Arrow Hwy\, Pomona\n\n\nThe Sowing Seeds Drive-Thru Pantry is held at Charisma Life Church located at 305 E Arrow Hwy\, Pomona\, CA 91767
URL:https://sowingseedsforlife.org/event/drive-thru-food-pantry/
END:VEVENT
BEGIN:VEVENT
DTSTART;TZID=UTC:20250416T100000
DTEND;TZID=UTC:20250416T120000
DTSTAMP:20260421T152349
CREATED:20250210T184822Z
LAST-MODIFIED:20250210T184822Z
UID:1180-1744797600-1744804800@sowingseedsforlife.org
SUMMARY:Food Pantry
DESCRIPTION:The Sowing Seeds Drive-Thru Pantry is held at Charisma Life Church located at 305 E Arrow Hwy\, Pomona\, CA 91767
URL:https://sowingseedsforlife.org/event/food-pantry-5/
END:VEVENT
BEGIN:VEVENT
DTSTART;TZID=UTC:20250402T100000
DTEND;TZID=UTC:20250402T120000
DTSTAMP:20260421T152349
CREATED:20250210T184808Z
LAST-MODIFIED:20250210T184808Z
UID:1179-1743588000-1743595200@sowingseedsforlife.org
SUMMARY:Food Pantry
DESCRIPTION:The Sowing Seeds Drive-Thru Pantry is held at Charisma Life Church located at 305 E Arrow Hwy\, Pomona\, CA 91767
URL:https://sowingseedsforlife.org/event/food-pantry-4/
END:VEVENT
BEGIN:VEVENT
DTSTART;TZID=UTC:20250321T100000
DTEND;TZID=UTC:20250321T120000
DTSTAMP:20260421T152349
CREATED:20250210T184848Z
LAST-MODIFIED:20250210T184848Z
UID:1182-1742551200-1742558400@sowingseedsforlife.org
SUMMARY:Food Pantry
DESCRIPTION:The Sowing Seeds Drive-Thru Pantry is held at Charisma Life Church located at 305 E Arrow Hwy\, Pomona\, CA 91767
URL:https://sowingseedsforlife.org/event/food-pantry-7/
END:VEVENT
BEGIN:VEVENT
DTSTART;TZID=UTC:20250319T100000
DTEND;TZID=UTC:20250319T120000
DTSTAMP:20260421T152349
CREATED:20250210T184747Z
LAST-MODIFIED:20250210T184747Z
UID:1178-1742378400-1742385600@sowingseedsforlife.org
SUMMARY:Food Pantry
DESCRIPTION:The Sowing Seeds Drive-Thru Pantry is held at Charisma Life Church located at 305 E Arrow Hwy\, Pomona\, CA 91767
URL:https://sowingseedsforlife.org/event/food-pantry-3/
END:VEVENT
BEGIN:VEVENT
DTSTART;TZID=UTC:20250307T100000
DTEND;TZID=UTC:20250307T120000
DTSTAMP:20260421T152349
CREATED:20250210T184841Z
LAST-MODIFIED:20250210T184841Z
UID:1181-1741341600-1741348800@sowingseedsforlife.org
SUMMARY:Food Pantry
DESCRIPTION:The Sowing Seeds Drive-Thru Pantry is held at Charisma Life Church located at 305 E Arrow Hwy\, Pomona\, CA 91767
URL:https://sowingseedsforlife.org/event/food-pantry-6/
END:VEVENT
BEGIN:VEVENT
DTSTART;TZID=UTC:20250305T100000
DTEND;TZID=UTC:20250305T120000
DTSTAMP:20260421T152349
CREATED:20250210T184651Z
LAST-MODIFIED:20250210T184651Z
UID:1177-1741168800-1741176000@sowingseedsforlife.org
SUMMARY:Food Pantry
DESCRIPTION:The Sowing Seeds Drive-Thru Pantry is held at Charisma Life Church located at 305 E Arrow Hwy\, Pomona\, CA 91767
URL:https://sowingseedsforlife.org/event/food-pantry-2/
END:VEVENT
BEGIN:VEVENT
DTSTART;TZID=UTC:20250219T100000
DTEND;TZID=UTC:20250219T120000
DTSTAMP:20260421T152349
CREATED:20250210T184056Z
LAST-MODIFIED:20250210T184056Z
UID:1172-1739959200-1739966400@sowingseedsforlife.org
SUMMARY:Food Pantry
DESCRIPTION:The Sowing Seeds Drive-Thru Pantry is held at Charisma Life Church located at 305 E Arrow Hwy\, Pomona\, CA 91767
URL:https://sowingseedsforlife.org/event/food-pantry/
END:VEVENT
END:VCALENDAR