BEGIN:VCALENDAR
VERSION:2.0
PRODID:-//Sowing Seeds for Life - ECPv6.15.17.1//NONSGML v1.0//EN
CALSCALE:GREGORIAN
METHOD:PUBLISH
X-WR-CALNAME:Sowing Seeds for Life
X-ORIGINAL-URL:https://sowingseedsforlife.org
X-WR-CALDESC:Events for Sowing Seeds for Life
REFRESH-INTERVAL;VALUE=DURATION:PT1H
X-Robots-Tag:noindex
X-PUBLISHED-TTL:PT1H
BEGIN:VTIMEZONE
TZID:UTC
BEGIN:STANDARD
TZOFFSETFROM:+0000
TZOFFSETTO:+0000
TZNAME:UTC
DTSTART:20250101T000000
END:STANDARD
END:VTIMEZONE
BEGIN:VEVENT
DTSTART;TZID=UTC:20260725T070000
DTEND;TZID=UTC:20260725T080000
DTSTAMP:20260421T115044
CREATED:20251204T154409Z
LAST-MODIFIED:20251204T154409Z
UID:1457-1784962800-1784966400@sowingseedsforlife.org
SUMMARY:Grand Terrace Pantry
DESCRIPTION:Grand Terrace Pantry Distribution \n22755 Vista Grande Way\, \nGrand Terrace\, CA 92313
URL:https://sowingseedsforlife.org/event/grand-terrace-pantry-6/
END:VEVENT
END:VCALENDAR