BEGIN:VCALENDAR
VERSION:2.0
PRODID:-//Sowing Seeds for Life - ECPv6.15.17.1//NONSGML v1.0//EN
CALSCALE:GREGORIAN
METHOD:PUBLISH
X-WR-CALNAME:Sowing Seeds for Life
X-ORIGINAL-URL:https://sowingseedsforlife.org
X-WR-CALDESC:Events for Sowing Seeds for Life
REFRESH-INTERVAL;VALUE=DURATION:PT1H
X-Robots-Tag:noindex
X-PUBLISHED-TTL:PT1H
BEGIN:VTIMEZONE
TZID:UTC
BEGIN:STANDARD
TZOFFSETFROM:+0000
TZOFFSETTO:+0000
TZNAME:UTC
DTSTART:20250101T000000
END:STANDARD
END:VTIMEZONE
BEGIN:VEVENT
DTSTART;TZID=UTC:20260121T080000
DTEND;TZID=UTC:20260121T170000
DTSTAMP:20260421T101622
CREATED:20260121T152620Z
LAST-MODIFIED:20260121T152620Z
UID:2092-1768982400-1769014800@sowingseedsforlife.org
SUMMARY:Charisma Life Church
DESCRIPTION:Charisma Life Church – 305 E Arrow Hwy\, Pomona\, CA 91767
URL:https://sowingseedsforlife.org/event/charisma-life-church-18/
END:VEVENT
BEGIN:VEVENT
DTSTART;TZID=UTC:20260121T100000
DTEND;TZID=UTC:20260121T120000
DTSTAMP:20260421T101622
CREATED:20260121T152707Z
LAST-MODIFIED:20260121T152707Z
UID:2102-1768989600-1768996800@sowingseedsforlife.org
SUMMARY:Charisma Life Church
DESCRIPTION:Charisma Life Church – 305 E Arrow Hwy\, Pomona\, CA 91767
URL:https://sowingseedsforlife.org/event/charisma-life-church-20/
END:VEVENT
END:VCALENDAR